BEGIN:VCALENDAR
VERSION:2.0
PRODID:-//Chuck Bender - Woodworking - ECPv6.15.18//NONSGML v1.0//EN
CALSCALE:GREGORIAN
METHOD:PUBLISH
X-ORIGINAL-URL:https://acanthus.com
X-WR-CALDESC:Events for Chuck Bender - Woodworking
REFRESH-INTERVAL;VALUE=DURATION:PT1H
X-Robots-Tag:noindex
X-PUBLISHED-TTL:PT1H
BEGIN:VTIMEZONE
TZID:America/New_York
BEGIN:DAYLIGHT
TZOFFSETFROM:-0500
TZOFFSETTO:-0400
TZNAME:EDT
DTSTART:20110313T070000
END:DAYLIGHT
BEGIN:STANDARD
TZOFFSETFROM:-0400
TZOFFSETTO:-0500
TZNAME:EST
DTSTART:20111106T060000
END:STANDARD
BEGIN:DAYLIGHT
TZOFFSETFROM:-0500
TZOFFSETTO:-0400
TZNAME:EDT
DTSTART:20120311T070000
END:DAYLIGHT
BEGIN:STANDARD
TZOFFSETFROM:-0400
TZOFFSETTO:-0500
TZNAME:EST
DTSTART:20121104T060000
END:STANDARD
BEGIN:DAYLIGHT
TZOFFSETFROM:-0500
TZOFFSETTO:-0400
TZNAME:EDT
DTSTART:20130310T070000
END:DAYLIGHT
BEGIN:STANDARD
TZOFFSETFROM:-0400
TZOFFSETTO:-0500
TZNAME:EST
DTSTART:20131103T060000
END:STANDARD
BEGIN:DAYLIGHT
TZOFFSETFROM:-0500
TZOFFSETTO:-0400
TZNAME:EDT
DTSTART:20140309T070000
END:DAYLIGHT
BEGIN:STANDARD
TZOFFSETFROM:-0400
TZOFFSETTO:-0500
TZNAME:EST
DTSTART:20141102T060000
END:STANDARD
BEGIN:DAYLIGHT
TZOFFSETFROM:-0500
TZOFFSETTO:-0400
TZNAME:EDT
DTSTART:20150308T070000
END:DAYLIGHT
BEGIN:STANDARD
TZOFFSETFROM:-0400
TZOFFSETTO:-0500
TZNAME:EST
DTSTART:20151101T060000
END:STANDARD
BEGIN:DAYLIGHT
TZOFFSETFROM:-0500
TZOFFSETTO:-0400
TZNAME:EDT
DTSTART:20160313T070000
END:DAYLIGHT
BEGIN:STANDARD
TZOFFSETFROM:-0400
TZOFFSETTO:-0500
TZNAME:EST
DTSTART:20161106T060000
END:STANDARD
BEGIN:DAYLIGHT
TZOFFSETFROM:-0500
TZOFFSETTO:-0400
TZNAME:EDT
DTSTART:20170312T070000
END:DAYLIGHT
BEGIN:STANDARD
TZOFFSETFROM:-0400
TZOFFSETTO:-0500
TZNAME:EST
DTSTART:20171105T060000
END:STANDARD
BEGIN:DAYLIGHT
TZOFFSETFROM:-0500
TZOFFSETTO:-0400
TZNAME:EDT
DTSTART:20180311T070000
END:DAYLIGHT
BEGIN:STANDARD
TZOFFSETFROM:-0400
TZOFFSETTO:-0500
TZNAME:EST
DTSTART:20181104T060000
END:STANDARD
BEGIN:DAYLIGHT
TZOFFSETFROM:-0500
TZOFFSETTO:-0400
TZNAME:EDT
DTSTART:20190310T070000
END:DAYLIGHT
BEGIN:STANDARD
TZOFFSETFROM:-0400
TZOFFSETTO:-0500
TZNAME:EST
DTSTART:20191103T060000
END:STANDARD
BEGIN:DAYLIGHT
TZOFFSETFROM:-0500
TZOFFSETTO:-0400
TZNAME:EDT
DTSTART:20200308T070000
END:DAYLIGHT
BEGIN:STANDARD
TZOFFSETFROM:-0400
TZOFFSETTO:-0500
TZNAME:EST
DTSTART:20201101T060000
END:STANDARD
BEGIN:DAYLIGHT
TZOFFSETFROM:-0500
TZOFFSETTO:-0400
TZNAME:EDT
DTSTART:20210314T070000
END:DAYLIGHT
BEGIN:STANDARD
TZOFFSETFROM:-0400
TZOFFSETTO:-0500
TZNAME:EST
DTSTART:20211107T060000
END:STANDARD
BEGIN:DAYLIGHT
TZOFFSETFROM:-0500
TZOFFSETTO:-0400
TZNAME:EDT
DTSTART:20220313T070000
END:DAYLIGHT
BEGIN:STANDARD
TZOFFSETFROM:-0400
TZOFFSETTO:-0500
TZNAME:EST
DTSTART:20221106T060000
END:STANDARD
BEGIN:DAYLIGHT
TZOFFSETFROM:-0500
TZOFFSETTO:-0400
TZNAME:EDT
DTSTART:20230312T070000
END:DAYLIGHT
BEGIN:STANDARD
TZOFFSETFROM:-0400
TZOFFSETTO:-0500
TZNAME:EST
DTSTART:20231105T060000
END:STANDARD
BEGIN:DAYLIGHT
TZOFFSETFROM:-0500
TZOFFSETTO:-0400
TZNAME:EDT
DTSTART:20240310T070000
END:DAYLIGHT
BEGIN:STANDARD
TZOFFSETFROM:-0400
TZOFFSETTO:-0500
TZNAME:EST
DTSTART:20241103T060000
END:STANDARD
END:VTIMEZONE
BEGIN:VEVENT
DTSTART;TZID=America/New_York:20231007T100000
DTEND;TZID=America/New_York:20231007T160000
DTSTAMP:20260421T120847
CREATED:20230825T132354Z
LAST-MODIFIED:20230825T132354Z
UID:10001339-1696672800-1696694400@acanthus.com
SUMMARY:Hearne Hardwoods Open House
DESCRIPTION:
URL:https://acanthus.com/event/hearne-hardwoods-open-house-2/
LOCATION:Hearne Hardwoods\, 200 Whiteside Drive\, Oxford\, PA\, 19363\, United States
CATEGORIES:Show/event
ORGANIZER;CN="Hearne Hardwoods":MAILTO:info@hearnehardwoods.com
GEO:39.8162495;-75.9626881
X-APPLE-STRUCTURED-LOCATION;VALUE=URI;X-ADDRESS=Hearne Hardwoods 200 Whiteside Drive Oxford PA 19363 United States;X-APPLE-RADIUS=500;X-TITLE=200 Whiteside Drive:geo:-75.9626881,39.8162495
END:VEVENT
BEGIN:VEVENT
DTSTART;TZID=America/New_York:20231006T100000
DTEND;TZID=America/New_York:20231006T170000
DTSTAMP:20260421T120847
CREATED:20230825T132102Z
LAST-MODIFIED:20230825T132304Z
UID:10001337-1696586400-1696611600@acanthus.com
SUMMARY:Hearne Hardwoods Open House
DESCRIPTION:
URL:https://acanthus.com/event/hearne-hardwoods-open-house/
LOCATION:Hearne Hardwoods\, 200 Whiteside Drive\, Oxford\, PA\, 19363\, United States
CATEGORIES:Show/event
ORGANIZER;CN="Hearne Hardwoods":MAILTO:info@hearnehardwoods.com
GEO:39.8162495;-75.9626881
X-APPLE-STRUCTURED-LOCATION;VALUE=URI;X-ADDRESS=Hearne Hardwoods 200 Whiteside Drive Oxford PA 19363 United States;X-APPLE-RADIUS=500;X-TITLE=200 Whiteside Drive:geo:-75.9626881,39.8162495
END:VEVENT
BEGIN:VEVENT
DTSTART;TZID=America/New_York:20131004T100000
DTEND;TZID=America/New_York:20131004T180000
DTSTAMP:20260421T120847
CREATED:20121207T205957Z
LAST-MODIFIED:20121207T205957Z
UID:10000337-1380880800-1380909600@acanthus.com
SUMMARY:Hearne Hardwoods Open House and Lie-Nielsen Hand Tool Event
DESCRIPTION:
URL:https://acanthus.com/event/hearne-hardwoods-open-house-and-lie-nielsen-hand-tool-event/2013-10-04/
LOCATION:Hearne Hardwoods\, 200 Whiteside Drive\, Oxford\, PA\, 19363\, United States
CATEGORIES:Show/event
GEO:39.8162495;-75.9626881
X-APPLE-STRUCTURED-LOCATION;VALUE=URI;X-ADDRESS=Hearne Hardwoods 200 Whiteside Drive Oxford PA 19363 United States;X-APPLE-RADIUS=500;X-TITLE=200 Whiteside Drive:geo:-75.9626881,39.8162495
END:VEVENT
BEGIN:VEVENT
DTSTART;TZID=America/New_York:20121005T100000
DTEND;TZID=America/New_York:20121006T170000
DTSTAMP:20260421T120847
CREATED:20120901T134715Z
LAST-MODIFIED:20120901T134715Z
UID:10000325-1349431200-1349542800@acanthus.com
SUMMARY:Lie-Nielsen Hand Tool Event - Oxford\, PA
DESCRIPTION:For more information\, click here.
URL:https://acanthus.com/event/lie-nielsen-hand-tool-event-oxford-pa/
LOCATION:Hearne Hardwoods\, 200 Whiteside Drive\, Oxford\, PA\, 19363\, United States
CATEGORIES:Presentation,Show/event
GEO:39.8162495;-75.9626881
X-APPLE-STRUCTURED-LOCATION;VALUE=URI;X-ADDRESS=Hearne Hardwoods 200 Whiteside Drive Oxford PA 19363 United States;X-APPLE-RADIUS=500;X-TITLE=200 Whiteside Drive:geo:-75.9626881,39.8162495
END:VEVENT
END:VCALENDAR