BEGIN:VCALENDAR
VERSION:2.0
PRODID:-//Chuck Bender - Woodworking - ECPv6.15.18//NONSGML v1.0//EN
CALSCALE:GREGORIAN
METHOD:PUBLISH
X-WR-CALNAME:Chuck Bender - Woodworking
X-ORIGINAL-URL:https://acanthus.com
X-WR-CALDESC:Events for Chuck Bender - Woodworking
REFRESH-INTERVAL;VALUE=DURATION:PT1H
X-Robots-Tag:noindex
X-PUBLISHED-TTL:PT1H
BEGIN:VTIMEZONE
TZID:America/New_York
BEGIN:DAYLIGHT
TZOFFSETFROM:-0500
TZOFFSETTO:-0400
TZNAME:EDT
DTSTART:20170312T070000
END:DAYLIGHT
BEGIN:STANDARD
TZOFFSETFROM:-0400
TZOFFSETTO:-0500
TZNAME:EST
DTSTART:20171105T060000
END:STANDARD
BEGIN:DAYLIGHT
TZOFFSETFROM:-0500
TZOFFSETTO:-0400
TZNAME:EDT
DTSTART:20180311T070000
END:DAYLIGHT
BEGIN:STANDARD
TZOFFSETFROM:-0400
TZOFFSETTO:-0500
TZNAME:EST
DTSTART:20181104T060000
END:STANDARD
BEGIN:DAYLIGHT
TZOFFSETFROM:-0500
TZOFFSETTO:-0400
TZNAME:EDT
DTSTART:20190310T070000
END:DAYLIGHT
BEGIN:STANDARD
TZOFFSETFROM:-0400
TZOFFSETTO:-0500
TZNAME:EST
DTSTART:20191103T060000
END:STANDARD
BEGIN:DAYLIGHT
TZOFFSETFROM:-0500
TZOFFSETTO:-0400
TZNAME:EDT
DTSTART:20200308T070000
END:DAYLIGHT
BEGIN:STANDARD
TZOFFSETFROM:-0400
TZOFFSETTO:-0500
TZNAME:EST
DTSTART:20201101T060000
END:STANDARD
BEGIN:DAYLIGHT
TZOFFSETFROM:-0500
TZOFFSETTO:-0400
TZNAME:EDT
DTSTART:20210314T070000
END:DAYLIGHT
BEGIN:STANDARD
TZOFFSETFROM:-0400
TZOFFSETTO:-0500
TZNAME:EST
DTSTART:20211107T060000
END:STANDARD
BEGIN:DAYLIGHT
TZOFFSETFROM:-0500
TZOFFSETTO:-0400
TZNAME:EDT
DTSTART:20220313T070000
END:DAYLIGHT
BEGIN:STANDARD
TZOFFSETFROM:-0400
TZOFFSETTO:-0500
TZNAME:EST
DTSTART:20221106T060000
END:STANDARD
BEGIN:DAYLIGHT
TZOFFSETFROM:-0500
TZOFFSETTO:-0400
TZNAME:EDT
DTSTART:20230312T070000
END:DAYLIGHT
BEGIN:STANDARD
TZOFFSETFROM:-0400
TZOFFSETTO:-0500
TZNAME:EST
DTSTART:20231105T060000
END:STANDARD
BEGIN:DAYLIGHT
TZOFFSETFROM:-0500
TZOFFSETTO:-0400
TZNAME:EDT
DTSTART:20240310T070000
END:DAYLIGHT
BEGIN:STANDARD
TZOFFSETFROM:-0400
TZOFFSETTO:-0500
TZNAME:EST
DTSTART:20241103T060000
END:STANDARD
BEGIN:DAYLIGHT
TZOFFSETFROM:-0500
TZOFFSETTO:-0400
TZNAME:EDT
DTSTART:20250309T070000
END:DAYLIGHT
BEGIN:STANDARD
TZOFFSETFROM:-0400
TZOFFSETTO:-0500
TZNAME:EST
DTSTART:20251102T060000
END:STANDARD
END:VTIMEZONE
BEGIN:VEVENT
DTSTART;TZID=America/New_York:20240204T100000
DTEND;TZID=America/New_York:20240204T150000
DTSTAMP:20260421T135251
CREATED:20231030T152601Z
LAST-MODIFIED:20231030T152601Z
UID:10001361-1707040800-1707058800@acanthus.com
SUMMARY:The Woodworking Shows - Atlanta
DESCRIPTION:The Woodworking Shows – Atlanta\nEducation\nVisit The Woodworking Shows – Atlanta for the best in tools\, supplies and free education. Each day of The Woodworking Shows is packed with demonstrations\, seminars and classes that make you a better woodworker – all for the price of admission. There are also paid classes you can take that delve deep into specific subjects. Kick up your woodworking skills at The Woodworking Shows. \nTools\nYou’ll also find the latest in hand and power tools at The Woodworking Shows. Get expert advice on what to buy and how to use it once you get it home. In fact\, try it out at the show before you buy. There are also lots of innovative new tools that debut at The Woodworking Shows. Be the first to see the latest new tools. \nSupplies\nThe Woodworking Shows is a good place to stock up on all those necessary shop supplies while you’re at The Woodworking Shows. You’ll find everything from clamps to sandpaper and glue at the show – thousands of items\, big and small\, for all your woodworking needs. \nGuilds & Clubs\nMeet other woodworkers from your area that are members of local clubs and guilds – you might even decide to get involved. Many clubs demonstrate a variety of techniques and skills at The Woodworking Shows. Be sure to stop by each of the club/guild booths.
URL:https://acanthus.com/event/the-woodworking-shows-atlanta-3/
LOCATION:Cobb Galleria\, Two Galleria Parkway\, Atlanta\, GA\, 30339\, United States
CATEGORIES:Show/event
ATTACH;FMTTYPE=image/jpeg:https://acanthus.com/wp-content/uploads/2018/01/The-Woodworking-Shows-Logo2-e1514940186276.jpg
END:VEVENT
BEGIN:VEVENT
DTSTART;TZID=America/New_York:20240203T100000
DTEND;TZID=America/New_York:20240203T180000
DTSTAMP:20260421T135251
CREATED:20231030T152536Z
LAST-MODIFIED:20231030T152536Z
UID:10001360-1706954400-1706983200@acanthus.com
SUMMARY:The Woodworking Shows - Atlanta
DESCRIPTION:The Woodworking Shows – Atlanta\nEducation\nVisit The Woodworking Shows – Atlanta for the best in tools\, supplies and free education. Each day of The Woodworking Shows is packed with demonstrations\, seminars and classes that make you a better woodworker – all for the price of admission. There are also paid classes you can take that delve deep into specific subjects. Kick up your woodworking skills at The Woodworking Shows. \nTools\nYou’ll also find the latest in hand and power tools at The Woodworking Shows. Get expert advice on what to buy and how to use it once you get it home. In fact\, try it out at the show before you buy. There are also lots of innovative new tools that debut at The Woodworking Shows. Be the first to see the latest new tools. \nSupplies\nThe Woodworking Shows is a good place to stock up on all those necessary shop supplies while you’re at The Woodworking Shows. You’ll find everything from clamps to sandpaper and glue at the show – thousands of items\, big and small\, for all your woodworking needs. \nGuilds & Clubs\nMeet other woodworkers from your area that are members of local clubs and guilds – you might even decide to get involved. Many clubs demonstrate a variety of techniques and skills at The Woodworking Shows. Be sure to stop by each of the club/guild booths.
URL:https://acanthus.com/event/the-woodworking-shows-atlanta-2/
LOCATION:Cobb Galleria\, Two Galleria Parkway\, Atlanta\, GA\, 30339\, United States
CATEGORIES:Show/event
END:VEVENT
BEGIN:VEVENT
DTSTART;TZID=America/New_York:20240202T120000
DTEND;TZID=America/New_York:20240202T180000
DTSTAMP:20260421T135251
CREATED:20231030T152451Z
LAST-MODIFIED:20231030T152451Z
UID:10001359-1706875200-1706896800@acanthus.com
SUMMARY:The Woodworking Shows - Atlanta
DESCRIPTION:The Woodworking Shows – Atlanta\nEducation\nVisit The Woodworking Shows – Atlanta for the best in tools\, supplies and free education. Each day of The Woodworking Shows is packed with demonstrations\, seminars and classes that make you a better woodworker – all for the price of admission. There are also paid classes you can take that delve deep into specific subjects. Kick up your woodworking skills at The Woodworking Shows. \nTools\nYou’ll also find the latest in hand and power tools at The Woodworking Shows. Get expert advice on what to buy and how to use it once you get it home. In fact\, try it out at the show before you buy. There are also lots of innovative new tools that debut at The Woodworking Shows. Be the first to see the latest new tools. \nSupplies\nThe Woodworking Shows is a good place to stock up on all those necessary shop supplies while you’re at The Woodworking Shows. You’ll find everything from clamps to sandpaper and glue at the show – thousands of items\, big and small\, for all your woodworking needs. \nGuilds & Clubs\nMeet other woodworkers from your area that are members of local clubs and guilds – you might even decide to get involved. Many clubs demonstrate a variety of techniques and skills at The Woodworking Shows. Be sure to stop by each of the club/guild booths.
URL:https://acanthus.com/event/the-woodworking-shows-atlanta/
LOCATION:Cobb Galleria\, Two Galleria Parkway\, Atlanta\, GA\, 30339\, United States
CATEGORIES:Show/event
ATTACH;FMTTYPE=image/jpeg:https://acanthus.com/wp-content/uploads/2018/01/The-Woodworking-Shows-Logo2-e1514940186276.jpg
END:VEVENT
BEGIN:VEVENT
DTSTART;TZID=America/New_York:20190317T100000
DTEND;TZID=America/New_York:20190317T150000
DTSTAMP:20260421T135251
CREATED:20181004T135011Z
LAST-MODIFIED:20181124T113027Z
UID:10000130-1552816800-1552834800@acanthus.com
SUMMARY:The Woodworking Shows - Atlanta
DESCRIPTION:The Woodworking Shows – Atlanta\nEducation\nVisit The Woodworking Shows – Atlanta for the best in tools\, supplies and free education. Each day of The Woodworking Shows is packed with demonstrations\, seminars and classes that make you a better woodworker – all for the price of admission. There are also paid classes you can take that delve deep into specific subjects. Kick up your woodworking skills at The Woodworking Shows. \nTools\nYou’ll also find the latest in hand and power tools at The Woodworking Shows. Get expert advice on what to buy and how to use it once you get it home. In fact\, try it out at the show before you buy. There are also lots of innovative new tools that debut at The Woodworking Shows. Be the first to see the latest new tools. \nSupplies\nThe Woodworking Shows is a good place to stock up on all those necessary shop supplies while you’re at The Woodworking Shows. You’ll find everything from clamps to sandpaper and glue at the show – thousands of items\, big and small\, for all your woodworking needs. \nGuilds & Clubs\nMeet other woodworkers from your area that are members of local clubs and guilds – you might even decide to get involved. Many clubs demonstrate a variety of techniques and skills at The Woodworking Shows. Be sure to stop by each of the club/guild booths.
URL:https://acanthus.com/event/woodworking-shows-atlanta-2-2-2/
LOCATION:Cobb Galleria\, Two Galleria Parkway\, Atlanta\, GA\, 30339\, United States
CATEGORIES:Show/event
ATTACH;FMTTYPE=image/jpeg:https://acanthus.com/wp-content/uploads/2018/01/The-Woodworking-Shows-Logo2-e1514940186276.jpg
END:VEVENT
BEGIN:VEVENT
DTSTART;TZID=America/New_York:20190316T100000
DTEND;TZID=America/New_York:20190316T180000
DTSTAMP:20260421T135251
CREATED:20181004T134928Z
LAST-MODIFIED:20181004T134928Z
UID:10000129-1552730400-1552759200@acanthus.com
SUMMARY:The Woodworking Shows - Atlanta
DESCRIPTION:The Woodworking Shows – Atlanta\nEducation\nVisit The Woodworking Shows – Atlanta for the best in tools\, supplies and free education. Each day of The Woodworking Shows is packed with demonstrations\, seminars and classes that make you a better woodworker – all for the price of admission. There are also paid classes you can take that delve deep into specific subjects. Kick up your woodworking skills at The Woodworking Shows. \nTools\nYou’ll also find the latest in hand and power tools at The Woodworking Shows. Get expert advice on what to buy and how to use it once you get it home. In fact\, try it out at the show before you buy. There are also lots of innovative new tools that debut at The Woodworking Shows. Be the first to see the latest new tools. \nSupplies\nThe Woodworking Shows is a good place to stock up on all those necessary shop supplies while you’re at The Woodworking Shows. You’ll find everything from clamps to sandpaper and glue at the show – thousands of items\, big and small\, for all your woodworking needs. \nGuilds & Clubs\nMeet other woodworkers from your area that are members of local clubs and guilds – you might even decide to get involved. Many clubs demonstrate a variety of techniques and skills at The Woodworking Shows. Be sure to stop by each of the club/guild booths.
URL:https://acanthus.com/event/woodworking-shows-atlanta-2-3/
LOCATION:Cobb Galleria\, Two Galleria Parkway\, Atlanta\, GA\, 30339\, United States
CATEGORIES:Show/event
END:VEVENT
BEGIN:VEVENT
DTSTART;TZID=America/New_York:20190315T120000
DTEND;TZID=America/New_York:20190315T180000
DTSTAMP:20260421T135251
CREATED:20181004T134854Z
LAST-MODIFIED:20181124T113239Z
UID:10000128-1552651200-1552672800@acanthus.com
SUMMARY:The Woodworking Shows - Atlanta
DESCRIPTION:The Woodworking Shows – Atlanta\nEducation\nVisit The Woodworking Shows – Atlanta for the best in tools\, supplies and free education. Each day of The Woodworking Shows is packed with demonstrations\, seminars and classes that make you a better woodworker – all for the price of admission. There are also paid classes you can take that delve deep into specific subjects. Kick up your woodworking skills at The Woodworking Shows. \nTools\nYou’ll also find the latest in hand and power tools at The Woodworking Shows. Get expert advice on what to buy and how to use it once you get it home. In fact\, try it out at the show before you buy. There are also lots of innovative new tools that debut at The Woodworking Shows. Be the first to see the latest new tools. \nSupplies\nThe Woodworking Shows is a good place to stock up on all those necessary shop supplies while you’re at The Woodworking Shows. You’ll find everything from clamps to sandpaper and glue at the show – thousands of items\, big and small\, for all your woodworking needs. \nGuilds & Clubs\nMeet other woodworkers from your area that are members of local clubs and guilds – you might even decide to get involved. Many clubs demonstrate a variety of techniques and skills at The Woodworking Shows. Be sure to stop by each of the club/guild booths.
URL:https://acanthus.com/event/woodworking-shows-atlanta-3/
LOCATION:Cobb Galleria\, Two Galleria Parkway\, Atlanta\, GA\, 30339\, United States
CATEGORIES:Show/event
ATTACH;FMTTYPE=image/jpeg:https://acanthus.com/wp-content/uploads/2018/01/The-Woodworking-Shows-Logo2-e1514940186276.jpg
END:VEVENT
BEGIN:VEVENT
DTSTART;TZID=America/New_York:20180318T100000
DTEND;TZID=America/New_York:20180318T150000
DTSTAMP:20260421T135251
CREATED:20180117T221155Z
LAST-MODIFIED:20180117T221155Z
UID:10000409-1521367200-1521385200@acanthus.com
SUMMARY:The Woodworking Shows - Atlanta
DESCRIPTION:The Woodworking Shows – Atlanta\nEducation\nVisit The Woodworking Shows – Atlanta for the best in tools\, supplies and free education. Each day of The Woodworking Shows is packed with demonstrations\, seminars and classes that make you a better woodworker – all for the price of admission. There are also paid classes you can take that delve deep into specific subjects. Kick up your woodworking skills at The Woodworking Shows. \nTools\nYou’ll also find the latest in hand and power tools at The Woodworking Shows. Get expert advice on what to buy and how to use it once you get it home. In fact\, try it out at the show before you buy. There are also lots of innovative new tools that debut at The Woodworking Shows. Be the first to see the latest new tools. \nSupplies\nThe Woodworking Shows is a good place to stock up on all those necessary shop supplies while you’re at The Woodworking Shows. You’ll find everything from clamps to sandpaper and glue at the show – thousands of items\, big and small\, for all your woodworking needs. \nGuilds & Clubs\nMeet other woodworkers from your area that are members of local clubs and guilds – you might even decide to get involved. Many clubs demonstrate a variety of techniques and skills at The Woodworking Shows. Be sure to stop by each of the club/guild booths.
URL:https://acanthus.com/event/woodworking-shows-atlanta-2-2/
LOCATION:Cobb Galleria\, Two Galleria Parkway\, Atlanta\, GA\, 30339\, United States
CATEGORIES:Show/event
END:VEVENT
BEGIN:VEVENT
DTSTART;TZID=America/New_York:20180317T100000
DTEND;TZID=America/New_York:20180317T180000
DTSTAMP:20260421T135251
CREATED:20180117T221036Z
LAST-MODIFIED:20180117T221036Z
UID:10000400-1521280800-1521309600@acanthus.com
SUMMARY:The Woodworking Shows - Atlanta
DESCRIPTION:The Woodworking Shows – Atlanta\nEducation\nVisit The Woodworking Shows – Atlanta for the best in tools\, supplies and free education. Each day of The Woodworking Shows is packed with demonstrations\, seminars and classes that make you a better woodworker – all for the price of admission. There are also paid classes you can take that delve deep into specific subjects. Kick up your woodworking skills at The Woodworking Shows. \nTools\nYou’ll also find the latest in hand and power tools at The Woodworking Shows. Get expert advice on what to buy and how to use it once you get it home. In fact\, try it out at the show before you buy. There are also lots of innovative new tools that debut at The Woodworking Shows. Be the first to see the latest new tools. \nSupplies\nThe Woodworking Shows is a good place to stock up on all those necessary shop supplies while you’re at The Woodworking Shows. You’ll find everything from clamps to sandpaper and glue at the show – thousands of items\, big and small\, for all your woodworking needs. \nGuilds & Clubs\nMeet other woodworkers from your area that are members of local clubs and guilds – you might even decide to get involved. Many clubs demonstrate a variety of techniques and skills at The Woodworking Shows. Be sure to stop by each of the club/guild booths.
URL:https://acanthus.com/event/woodworking-shows-atlanta-2/
LOCATION:Cobb Galleria\, Two Galleria Parkway\, Atlanta\, GA\, 30339\, United States
CATEGORIES:Show/event
END:VEVENT
BEGIN:VEVENT
DTSTART;TZID=America/New_York:20180316T120000
DTEND;TZID=America/New_York:20180316T180000
DTSTAMP:20260421T135251
CREATED:20180117T220820Z
LAST-MODIFIED:20180117T220820Z
UID:10000401-1521201600-1521223200@acanthus.com
SUMMARY:The Woodworking Shows - Atlanta
DESCRIPTION:The Woodworking Shows – Atlanta\nEducation\nVisit The Woodworking Shows – Atlanta for the best in tools\, supplies and free education. Each day of The Woodworking Shows is packed with demonstrations\, seminars and classes that make you a better woodworker – all for the price of admission. There are also paid classes you can take that delve deep into specific subjects. Kick up your woodworking skills at The Woodworking Shows. \nTools\nYou’ll also find the latest in hand and power tools at The Woodworking Shows. Get expert advice on what to buy and how to use it once you get it home. In fact\, try it out at the show before you buy. There are also lots of innovative new tools that debut at The Woodworking Shows. Be the first to see the latest new tools. \nSupplies\nThe Woodworking Shows is a good place to stock up on all those necessary shop supplies while you’re at The Woodworking Shows. You’ll find everything from clamps to sandpaper and glue at the show – thousands of items\, big and small\, for all your woodworking needs. \nGuilds & Clubs\nMeet other woodworkers from your area that are members of local clubs and guilds – you might even decide to get involved. Many clubs demonstrate a variety of techniques and skills at The Woodworking Shows. Be sure to stop by each of the club/guild booths.
URL:https://acanthus.com/event/woodworking-shows-atlanta/
LOCATION:Cobb Galleria\, Two Galleria Parkway\, Atlanta\, GA\, 30339\, United States
CATEGORIES:Show/event
END:VEVENT
END:VCALENDAR