BEGIN:VCALENDAR
VERSION:2.0
PRODID:-//Chuck Bender - Woodworking - ECPv6.15.18//NONSGML v1.0//EN
CALSCALE:GREGORIAN
METHOD:PUBLISH
X-WR-CALNAME:Chuck Bender - Woodworking
X-ORIGINAL-URL:https://acanthus.com
X-WR-CALDESC:Events for Chuck Bender - Woodworking
REFRESH-INTERVAL;VALUE=DURATION:PT1H
X-Robots-Tag:noindex
X-PUBLISHED-TTL:PT1H
BEGIN:VTIMEZONE
TZID:America/New_York
BEGIN:DAYLIGHT
TZOFFSETFROM:-0500
TZOFFSETTO:-0400
TZNAME:EDT
DTSTART:20110313T070000
END:DAYLIGHT
BEGIN:STANDARD
TZOFFSETFROM:-0400
TZOFFSETTO:-0500
TZNAME:EST
DTSTART:20111106T060000
END:STANDARD
BEGIN:DAYLIGHT
TZOFFSETFROM:-0500
TZOFFSETTO:-0400
TZNAME:EDT
DTSTART:20120311T070000
END:DAYLIGHT
BEGIN:STANDARD
TZOFFSETFROM:-0400
TZOFFSETTO:-0500
TZNAME:EST
DTSTART:20121104T060000
END:STANDARD
BEGIN:DAYLIGHT
TZOFFSETFROM:-0500
TZOFFSETTO:-0400
TZNAME:EDT
DTSTART:20130310T070000
END:DAYLIGHT
BEGIN:STANDARD
TZOFFSETFROM:-0400
TZOFFSETTO:-0500
TZNAME:EST
DTSTART:20131103T060000
END:STANDARD
BEGIN:DAYLIGHT
TZOFFSETFROM:-0500
TZOFFSETTO:-0400
TZNAME:EDT
DTSTART:20140309T070000
END:DAYLIGHT
BEGIN:STANDARD
TZOFFSETFROM:-0400
TZOFFSETTO:-0500
TZNAME:EST
DTSTART:20141102T060000
END:STANDARD
BEGIN:DAYLIGHT
TZOFFSETFROM:-0500
TZOFFSETTO:-0400
TZNAME:EDT
DTSTART:20150308T070000
END:DAYLIGHT
BEGIN:STANDARD
TZOFFSETFROM:-0400
TZOFFSETTO:-0500
TZNAME:EST
DTSTART:20151101T060000
END:STANDARD
BEGIN:DAYLIGHT
TZOFFSETFROM:-0500
TZOFFSETTO:-0400
TZNAME:EDT
DTSTART:20160313T070000
END:DAYLIGHT
BEGIN:STANDARD
TZOFFSETFROM:-0400
TZOFFSETTO:-0500
TZNAME:EST
DTSTART:20161106T060000
END:STANDARD
BEGIN:DAYLIGHT
TZOFFSETFROM:-0500
TZOFFSETTO:-0400
TZNAME:EDT
DTSTART:20170312T070000
END:DAYLIGHT
BEGIN:STANDARD
TZOFFSETFROM:-0400
TZOFFSETTO:-0500
TZNAME:EST
DTSTART:20171105T060000
END:STANDARD
BEGIN:DAYLIGHT
TZOFFSETFROM:-0500
TZOFFSETTO:-0400
TZNAME:EDT
DTSTART:20180311T070000
END:DAYLIGHT
BEGIN:STANDARD
TZOFFSETFROM:-0400
TZOFFSETTO:-0500
TZNAME:EST
DTSTART:20181104T060000
END:STANDARD
BEGIN:DAYLIGHT
TZOFFSETFROM:-0500
TZOFFSETTO:-0400
TZNAME:EDT
DTSTART:20190310T070000
END:DAYLIGHT
BEGIN:STANDARD
TZOFFSETFROM:-0400
TZOFFSETTO:-0500
TZNAME:EST
DTSTART:20191103T060000
END:STANDARD
END:VTIMEZONE
BEGIN:VEVENT
DTSTART;TZID=America/New_York:20180807T090000
DTEND;TZID=America/New_York:20180807T163000
DTSTAMP:20260424T143020
CREATED:20180130T234323Z
LAST-MODIFIED:20180130T235129Z
UID:10000093-1533632400-1533659400@acanthus.com
SUMMARY:Carving For Furniture Makers – Hands-on Class
DESCRIPTION:Carving For Furniture Makers\nIn this weeklong class you’ll go from zero to full-tilt carving in only five days. You’ll develop the foundational skills necessary to embellish your woodworking project with that touch of carving class. You’ll carve fans\, shells and even a simple cabriole leg. Learn how to maintain your carving tools in order to carve crisply\, cleanly and safely.
URL:https://acanthus.com/event/carving-furniture-makers-hands-class-2/
LOCATION:Acanthus Workshop\, 62 Indian Trail Rd.\, Jim Thorpe\, PA\, 18229\, United States
CATEGORIES:Hands-on Class
ORGANIZER;CN="Chuck Bender":MAILTO:cbender@acanthus.com
GEO:40.211701;-75.621274
X-APPLE-STRUCTURED-LOCATION;VALUE=URI;X-ADDRESS=Acanthus Workshop 62 Indian Trail Rd. Jim Thorpe PA 18229 United States;X-APPLE-RADIUS=500;X-TITLE=62 Indian Trail Rd.:geo:-75.621274,40.211701
END:VEVENT
BEGIN:VEVENT
DTSTART;TZID=America/New_York:20180806T090000
DTEND;TZID=America/New_York:20180806T163000
DTSTAMP:20260424T143020
CREATED:20180130T234228Z
LAST-MODIFIED:20180130T235037Z
UID:10000092-1533546000-1533573000@acanthus.com
SUMMARY:Carving For Furniture Makers – Hands-on Class
DESCRIPTION:Carving For Furniture Makers\nIn this weeklong class you’ll go from zero to full-tilt carving in only five days. You’ll develop the foundational skills necessary to embellish your woodworking project with that touch of carving class. You’ll carve fans\, shells and even a simple cabriole leg. Learn how to maintain your carving tools in order to carve crisply\, cleanly and safely.
URL:https://acanthus.com/event/carving-furniture-makers-hands-class/
LOCATION:Acanthus Workshop\, 62 Indian Trail Rd.\, Jim Thorpe\, PA\, 18229\, United States
CATEGORIES:Hands-on Class
ORGANIZER;CN="Chuck Bender":MAILTO:cbender@acanthus.com
GEO:40.211701;-75.621274
X-APPLE-STRUCTURED-LOCATION;VALUE=URI;X-ADDRESS=Acanthus Workshop 62 Indian Trail Rd. Jim Thorpe PA 18229 United States;X-APPLE-RADIUS=500;X-TITLE=62 Indian Trail Rd.:geo:-75.621274,40.211701
END:VEVENT
BEGIN:VEVENT
DTSTART;TZID=America/New_York:20180727T090000
DTEND;TZID=America/New_York:20180727T163000
DTSTAMP:20260424T143020
CREATED:20180130T224056Z
LAST-MODIFIED:20180521T130801Z
UID:10000078-1532682000-1532709000@acanthus.com
SUMMARY:Pennsylvania Spice Box - Hands-on Class
DESCRIPTION:Pennsylvania Spice Box\nThe Pennsylvania spice box offers unique challenges to the intermediate woodworker. From case construction to hanging a door and dovetailing a large number of drawers\, this project will challenge your skills. \nThe best part of spice boxes is the secret compartments\, right? I’ve designed this Pennsylvania spice box with several.
URL:https://acanthus.com/event/pennsylvania-spice-box-hands-class-3-2/
LOCATION:Acanthus Workshop\, 62 Indian Trail Rd.\, Jim Thorpe\, PA\, 18229\, United States
CATEGORIES:Hands-on Class
ORGANIZER;CN="Chuck Bender":MAILTO:cbender@acanthus.com
GEO:40.211701;-75.621274
X-APPLE-STRUCTURED-LOCATION;VALUE=URI;X-ADDRESS=Acanthus Workshop 62 Indian Trail Rd. Jim Thorpe PA 18229 United States;X-APPLE-RADIUS=500;X-TITLE=62 Indian Trail Rd.:geo:-75.621274,40.211701
END:VEVENT
BEGIN:VEVENT
DTSTART;TZID=America/New_York:20180726T090000
DTEND;TZID=America/New_York:20180726T163000
DTSTAMP:20260424T143020
CREATED:20180130T224011Z
LAST-MODIFIED:20180521T130753Z
UID:10000423-1532595600-1532622600@acanthus.com
SUMMARY:Pennsylvania Spice Box - Hands-on Class
DESCRIPTION:Pennsylvania Spice Box\nThe Pennsylvania spice box offers unique challenges to the intermediate woodworker. From case construction to hanging a door and dovetailing a large number of drawers\, this project will challenge your skills. \nThe best part of spice boxes is the secret compartments\, right? I’ve designed this Pennsylvania spice box with several.
URL:https://acanthus.com/event/pennsylvania-spice-box-hands-class-2-2/
LOCATION:Acanthus Workshop\, 62 Indian Trail Rd.\, Jim Thorpe\, PA\, 18229\, United States
CATEGORIES:Hands-on Class
ORGANIZER;CN="Chuck Bender":MAILTO:cbender@acanthus.com
GEO:40.211701;-75.621274
X-APPLE-STRUCTURED-LOCATION;VALUE=URI;X-ADDRESS=Acanthus Workshop 62 Indian Trail Rd. Jim Thorpe PA 18229 United States;X-APPLE-RADIUS=500;X-TITLE=62 Indian Trail Rd.:geo:-75.621274,40.211701
END:VEVENT
BEGIN:VEVENT
DTSTART;TZID=America/New_York:20180725T090000
DTEND;TZID=America/New_York:20180725T163000
DTSTAMP:20260424T143020
CREATED:20180130T223917Z
LAST-MODIFIED:20180521T130742Z
UID:10000424-1532509200-1532536200@acanthus.com
SUMMARY:Pennsylvania Spice Box - Hands-on Class
DESCRIPTION:Pennsylvania Spice Box\nThe Pennsylvania spice box offers unique challenges to the intermediate woodworker. From case construction to hanging a door and dovetailing a large number of drawers\, this project will challenge your skills. \nThe best part of spice boxes is the secret compartments\, right? I’ve designed this Pennsylvania spice box with several.
URL:https://acanthus.com/event/pennsylvania-spice-box-hands-class-3/
LOCATION:Acanthus Workshop\, 62 Indian Trail Rd.\, Jim Thorpe\, PA\, 18229\, United States
CATEGORIES:Hands-on Class
ORGANIZER;CN="Chuck Bender":MAILTO:cbender@acanthus.com
GEO:40.211701;-75.621274
X-APPLE-STRUCTURED-LOCATION;VALUE=URI;X-ADDRESS=Acanthus Workshop 62 Indian Trail Rd. Jim Thorpe PA 18229 United States;X-APPLE-RADIUS=500;X-TITLE=62 Indian Trail Rd.:geo:-75.621274,40.211701
END:VEVENT
BEGIN:VEVENT
DTSTART;TZID=America/New_York:20180724T090000
DTEND;TZID=America/New_York:20180724T163000
DTSTAMP:20260424T143020
CREATED:20180130T223654Z
LAST-MODIFIED:20180521T130734Z
UID:10000425-1532422800-1532449800@acanthus.com
SUMMARY:Pennsylvania Spice Box - Hands-on Class
DESCRIPTION:Pennsylvania Spice Box\nThe Pennsylvania spice box offers unique challenges to the intermediate woodworker. From case construction to hanging a door and dovetailing a large number of drawers\, this project will challenge your skills. \nThe best part of spice boxes is the secret compartments\, right? I’ve designed this Pennsylvania spice box with several.
URL:https://acanthus.com/event/pennsylvania-spice-box-hands-class-2/
LOCATION:Acanthus Workshop\, 62 Indian Trail Rd.\, Jim Thorpe\, PA\, 18229\, United States
CATEGORIES:Hands-on Class
ORGANIZER;CN="Chuck Bender":MAILTO:cbender@acanthus.com
GEO:40.211701;-75.621274
X-APPLE-STRUCTURED-LOCATION;VALUE=URI;X-ADDRESS=Acanthus Workshop 62 Indian Trail Rd. Jim Thorpe PA 18229 United States;X-APPLE-RADIUS=500;X-TITLE=62 Indian Trail Rd.:geo:-75.621274,40.211701
END:VEVENT
BEGIN:VEVENT
DTSTART;TZID=America/New_York:20180723T090000
DTEND;TZID=America/New_York:20180723T163000
DTSTAMP:20260424T143020
CREATED:20180130T223549Z
LAST-MODIFIED:20180521T130654Z
UID:10000426-1532336400-1532363400@acanthus.com
SUMMARY:Pennsylvania Spice Box - Hands-on Class
DESCRIPTION:Pennsylvania Spice Box\nThe Pennsylvania spice box offers unique challenges to the intermediate woodworker. From case construction to hanging a door and dovetailing a large number of drawers\, this project will challenge your skills. \nThe best part of spice boxes is the secret compartments\, right? I’ve designed this Pennsylvania spice box with several.
URL:https://acanthus.com/event/pennsylvania-spice-box-hands-class/
LOCATION:Acanthus Workshop\, 62 Indian Trail Rd.\, Jim Thorpe\, PA\, 18229\, United States
CATEGORIES:Hands-on Class
ORGANIZER;CN="Chuck Bender":MAILTO:cbender@acanthus.com
GEO:40.211701;-75.621274
X-APPLE-STRUCTURED-LOCATION;VALUE=URI;X-ADDRESS=Acanthus Workshop 62 Indian Trail Rd. Jim Thorpe PA 18229 United States;X-APPLE-RADIUS=500;X-TITLE=62 Indian Trail Rd.:geo:-75.621274,40.211701
END:VEVENT
BEGIN:VEVENT
DTSTART;TZID=America/New_York:20180720T080000
DTEND;TZID=America/New_York:20180720T170000
DTSTAMP:20260424T143020
CREATED:20180130T230058Z
LAST-MODIFIED:20180408T034255Z
UID:10000091-1532073600-1532106000@acanthus.com
SUMMARY:Wharton Esherick Desk – Hands-on Class
DESCRIPTION:Wharton Esherick Desk\nWharton Esherick is one of the most influential woodworkers of the last century. You’ll be creating your own version of this stunning desk in class. Think it would look better with a mix of domestic and imported hardwoods? Want to change the shape of the top? All this and more is possible in this five-day class.
URL:https://acanthus.com/event/wharton-esherick-desk-hands-class-5/
LOCATION:Acanthus Workshop\, 62 Indian Trail Rd.\, Jim Thorpe\, PA\, 18229\, United States
CATEGORIES:Hands-on Class
ATTACH;FMTTYPE=image/png:https://acanthus.com/wp-content/uploads/2018/01/desk5.png
ORGANIZER;CN="Chuck Bender":MAILTO:cbender@acanthus.com
GEO:40.211701;-75.621274
X-APPLE-STRUCTURED-LOCATION;VALUE=URI;X-ADDRESS=Acanthus Workshop 62 Indian Trail Rd. Jim Thorpe PA 18229 United States;X-APPLE-RADIUS=500;X-TITLE=62 Indian Trail Rd.:geo:-75.621274,40.211701
END:VEVENT
BEGIN:VEVENT
DTSTART;TZID=America/New_York:20180719T080000
DTEND;TZID=America/New_York:20180719T170000
DTSTAMP:20260424T143020
CREATED:20180130T230013Z
LAST-MODIFIED:20180408T034315Z
UID:10000090-1531987200-1532019600@acanthus.com
SUMMARY:Wharton Esherick Desk – Hands-on Class
DESCRIPTION:Wharton Esherick Desk\nWharton Esherick is one of the most influential woodworkers of the last century. You’ll be creating your own version of this stunning desk in class. Think it would look better with a mix of domestic and imported hardwoods? Want to change the shape of the top? All this and more is possible in this five-day class.
URL:https://acanthus.com/event/wharton-esherick-desk-hands-class-4/
LOCATION:Acanthus Workshop\, 62 Indian Trail Rd.\, Jim Thorpe\, PA\, 18229\, United States
CATEGORIES:Hands-on Class
ATTACH;FMTTYPE=image/png:https://acanthus.com/wp-content/uploads/2018/01/desk5.png
ORGANIZER;CN="Chuck Bender":MAILTO:cbender@acanthus.com
GEO:40.211701;-75.621274
X-APPLE-STRUCTURED-LOCATION;VALUE=URI;X-ADDRESS=Acanthus Workshop 62 Indian Trail Rd. Jim Thorpe PA 18229 United States;X-APPLE-RADIUS=500;X-TITLE=62 Indian Trail Rd.:geo:-75.621274,40.211701
END:VEVENT
BEGIN:VEVENT
DTSTART;TZID=America/New_York:20180718T080000
DTEND;TZID=America/New_York:20180718T170000
DTSTAMP:20260424T143020
CREATED:20180130T225929Z
LAST-MODIFIED:20180408T034326Z
UID:10000089-1531900800-1531933200@acanthus.com
SUMMARY:Wharton Esherick Desk – Hands-on Class
DESCRIPTION:Wharton Esherick Desk\nWharton Esherick is one of the most influential woodworkers of the last century. You’ll be creating your own version of this stunning desk in class. Think it would look better with a mix of domestic and imported hardwoods? Want to change the shape of the top? All this and more is possible in this five-day class.
URL:https://acanthus.com/event/wharton-esherick-desk-hands-class-3/
LOCATION:Acanthus Workshop\, 62 Indian Trail Rd.\, Jim Thorpe\, PA\, 18229\, United States
CATEGORIES:Hands-on Class
ATTACH;FMTTYPE=image/png:https://acanthus.com/wp-content/uploads/2018/01/desk5.png
ORGANIZER;CN="Chuck Bender":MAILTO:cbender@acanthus.com
GEO:40.211701;-75.621274
X-APPLE-STRUCTURED-LOCATION;VALUE=URI;X-ADDRESS=Acanthus Workshop 62 Indian Trail Rd. Jim Thorpe PA 18229 United States;X-APPLE-RADIUS=500;X-TITLE=62 Indian Trail Rd.:geo:-75.621274,40.211701
END:VEVENT
BEGIN:VEVENT
DTSTART;TZID=America/New_York:20180717T080000
DTEND;TZID=America/New_York:20180717T170000
DTSTAMP:20260424T143020
CREATED:20180130T225854Z
LAST-MODIFIED:20180408T034339Z
UID:10000088-1531814400-1531846800@acanthus.com
SUMMARY:Wharton Esherick Desk – Hands-on Class
DESCRIPTION:Wharton Esherick Desk\nWharton Esherick is one of the most influential woodworkers of the last century. You’ll be creating your own version of this stunning desk in class. Think it would look better with a mix of domestic and imported hardwoods? Want to change the shape of the top? All this and more is possible in this five-day class.
URL:https://acanthus.com/event/wharton-esherick-desk-hands-class-2/
LOCATION:Acanthus Workshop\, 62 Indian Trail Rd.\, Jim Thorpe\, PA\, 18229\, United States
CATEGORIES:Hands-on Class
ATTACH;FMTTYPE=image/png:https://acanthus.com/wp-content/uploads/2018/01/desk5.png
ORGANIZER;CN="Chuck Bender":MAILTO:cbender@acanthus.com
GEO:40.211701;-75.621274
X-APPLE-STRUCTURED-LOCATION;VALUE=URI;X-ADDRESS=Acanthus Workshop 62 Indian Trail Rd. Jim Thorpe PA 18229 United States;X-APPLE-RADIUS=500;X-TITLE=62 Indian Trail Rd.:geo:-75.621274,40.211701
END:VEVENT
BEGIN:VEVENT
DTSTART;TZID=America/New_York:20180716T080000
DTEND;TZID=America/New_York:20180716T170000
DTSTAMP:20260424T143020
CREATED:20180130T225055Z
LAST-MODIFIED:20180408T034351Z
UID:10000087-1531728000-1531760400@acanthus.com
SUMMARY:Wharton Esherick Desk – Hands-on Class
DESCRIPTION:Wharton Esherick Desk\nWharton Esherick is one of the most influential woodworkers of the last century. You’ll be creating your own version of this stunning desk in class. Think it would look better with a mix of domestic and imported hardwoods? Want to change the shape of the top? All this and more is possible in this five-day class.
URL:https://acanthus.com/event/wharton-esherick-desk-hands-class/
LOCATION:Acanthus Workshop\, 62 Indian Trail Rd.\, Jim Thorpe\, PA\, 18229\, United States
CATEGORIES:Hands-on Class
ATTACH;FMTTYPE=image/png:https://acanthus.com/wp-content/uploads/2018/01/desk5.png
ORGANIZER;CN="Chuck Bender":MAILTO:cbender@acanthus.com
GEO:40.211701;-75.621274
X-APPLE-STRUCTURED-LOCATION;VALUE=URI;X-ADDRESS=Acanthus Workshop 62 Indian Trail Rd. Jim Thorpe PA 18229 United States;X-APPLE-RADIUS=500;X-TITLE=62 Indian Trail Rd.:geo:-75.621274,40.211701
END:VEVENT
BEGIN:VEVENT
DTSTART;TZID=America/New_York:20121006T090000
DTEND;TZID=America/New_York:20121008T170000
DTSTAMP:20260424T143020
CREATED:20120901T134108Z
LAST-MODIFIED:20120901T134348Z
UID:10000326-1349514000-1349715600@acanthus.com
SUMMARY:Molding planes with Matt Bickford
DESCRIPTION:For more information on the molding plane class with Matt Bickford click here.
URL:https://acanthus.com/event/molding-planes-with-matt-bickford-2/
LOCATION:Acanthus Workshop\, 62 Indian Trail Rd.\, Jim Thorpe\, PA\, 18229\, United States
CATEGORIES:Apprentice level class,Journeyman level class,Master level class
ORGANIZER;CN="Acanthus Workshop":MAILTO:classes@acanthus.com
GEO:40.211701;-75.621274
X-APPLE-STRUCTURED-LOCATION;VALUE=URI;X-ADDRESS=Acanthus Workshop 62 Indian Trail Rd. Jim Thorpe PA 18229 United States;X-APPLE-RADIUS=500;X-TITLE=62 Indian Trail Rd.:geo:-75.621274,40.211701
END:VEVENT
END:VCALENDAR