BEGIN:VCALENDAR
VERSION:2.0
PRODID:-//Chuck Bender - Woodworking - ECPv6.15.18//NONSGML v1.0//EN
CALSCALE:GREGORIAN
METHOD:PUBLISH
X-WR-CALNAME:Chuck Bender - Woodworking
X-ORIGINAL-URL:https://acanthus.com
X-WR-CALDESC:Events for Chuck Bender - Woodworking
REFRESH-INTERVAL;VALUE=DURATION:PT1H
X-Robots-Tag:noindex
X-PUBLISHED-TTL:PT1H
BEGIN:VTIMEZONE
TZID:America/New_York
BEGIN:DAYLIGHT
TZOFFSETFROM:-0500
TZOFFSETTO:-0400
TZNAME:EDT
DTSTART:20250309T070000
END:DAYLIGHT
BEGIN:STANDARD
TZOFFSETFROM:-0400
TZOFFSETTO:-0500
TZNAME:EST
DTSTART:20251102T060000
END:STANDARD
BEGIN:DAYLIGHT
TZOFFSETFROM:-0500
TZOFFSETTO:-0400
TZNAME:EDT
DTSTART:20260308T070000
END:DAYLIGHT
BEGIN:STANDARD
TZOFFSETFROM:-0400
TZOFFSETTO:-0500
TZNAME:EST
DTSTART:20261101T060000
END:STANDARD
BEGIN:DAYLIGHT
TZOFFSETFROM:-0500
TZOFFSETTO:-0400
TZNAME:EDT
DTSTART:20270314T070000
END:DAYLIGHT
BEGIN:STANDARD
TZOFFSETFROM:-0400
TZOFFSETTO:-0500
TZNAME:EST
DTSTART:20271107T060000
END:STANDARD
END:VTIMEZONE
BEGIN:VEVENT
DTSTART;TZID=America/New_York:20260622T090000
DTEND;TZID=America/New_York:20260622T163000
DTSTAMP:20260421T071906
CREATED:20251023T194653Z
LAST-MODIFIED:20251023T194653Z
UID:10001939-1782118800-1782145800@acanthus.com
SUMMARY:Build a Morris Chair – Hands-on Class
DESCRIPTION:In the Morris Chair class\, you’ll make a version of Gustav Stickley’s most significant contribution to the Mission Furniture style. \n\nMorris Chair\nThe five-day Morris Chair class begins with full-scale shop drawings. You’ll dive immediately into the joinery.
URL:https://acanthus.com/event/build-a-morris-chair-hands-on-class/2026-06-22/
LOCATION:Acanthus Workshop\, 62 Indian Trail Rd.\, Jim Thorpe\, PA\, 18229\, United States
CATEGORIES:Hands-on Class
ATTACH;FMTTYPE=image/jpeg:https://acanthus.com/wp-content/uploads/2025/09/Morris-e1758733432754.jpg
ORGANIZER;CN="Acanthus Workshop":MAILTO:classes@acanthus.com
GEO:40.211701;-75.621274
X-APPLE-STRUCTURED-LOCATION;VALUE=URI;X-ADDRESS=Acanthus Workshop 62 Indian Trail Rd. Jim Thorpe PA 18229 United States;X-APPLE-RADIUS=500;X-TITLE=62 Indian Trail Rd.:geo:-75.621274,40.211701
END:VEVENT
BEGIN:VEVENT
DTSTART;TZID=America/New_York:20260623T090000
DTEND;TZID=America/New_York:20260623T163000
DTSTAMP:20260421T071906
CREATED:20251023T194653Z
LAST-MODIFIED:20251023T194653Z
UID:10001940-1782205200-1782232200@acanthus.com
SUMMARY:Build a Morris Chair – Hands-on Class
DESCRIPTION:In the Morris Chair class\, you’ll make a version of Gustav Stickley’s most significant contribution to the Mission Furniture style. \n\nMorris Chair\nThe five-day Morris Chair class begins with full-scale shop drawings. You’ll dive immediately into the joinery.
URL:https://acanthus.com/event/build-a-morris-chair-hands-on-class/2026-06-23/
LOCATION:Acanthus Workshop\, 62 Indian Trail Rd.\, Jim Thorpe\, PA\, 18229\, United States
CATEGORIES:Hands-on Class
ATTACH;FMTTYPE=image/jpeg:https://acanthus.com/wp-content/uploads/2025/09/Morris-e1758733432754.jpg
ORGANIZER;CN="Acanthus Workshop":MAILTO:classes@acanthus.com
GEO:40.211701;-75.621274
X-APPLE-STRUCTURED-LOCATION;VALUE=URI;X-ADDRESS=Acanthus Workshop 62 Indian Trail Rd. Jim Thorpe PA 18229 United States;X-APPLE-RADIUS=500;X-TITLE=62 Indian Trail Rd.:geo:-75.621274,40.211701
END:VEVENT
BEGIN:VEVENT
DTSTART;TZID=America/New_York:20260624T090000
DTEND;TZID=America/New_York:20260624T163000
DTSTAMP:20260421T071906
CREATED:20251023T194653Z
LAST-MODIFIED:20251023T194653Z
UID:10001941-1782291600-1782318600@acanthus.com
SUMMARY:Build a Morris Chair – Hands-on Class
DESCRIPTION:In the Morris Chair class\, you’ll make a version of Gustav Stickley’s most significant contribution to the Mission Furniture style. \n\nMorris Chair\nThe five-day Morris Chair class begins with full-scale shop drawings. You’ll dive immediately into the joinery.
URL:https://acanthus.com/event/build-a-morris-chair-hands-on-class/2026-06-24/
LOCATION:Acanthus Workshop\, 62 Indian Trail Rd.\, Jim Thorpe\, PA\, 18229\, United States
CATEGORIES:Hands-on Class
ATTACH;FMTTYPE=image/jpeg:https://acanthus.com/wp-content/uploads/2025/09/Morris-e1758733432754.jpg
ORGANIZER;CN="Acanthus Workshop":MAILTO:classes@acanthus.com
GEO:40.211701;-75.621274
X-APPLE-STRUCTURED-LOCATION;VALUE=URI;X-ADDRESS=Acanthus Workshop 62 Indian Trail Rd. Jim Thorpe PA 18229 United States;X-APPLE-RADIUS=500;X-TITLE=62 Indian Trail Rd.:geo:-75.621274,40.211701
END:VEVENT
BEGIN:VEVENT
DTSTART;TZID=America/New_York:20260625T090000
DTEND;TZID=America/New_York:20260625T163000
DTSTAMP:20260421T071906
CREATED:20251023T194653Z
LAST-MODIFIED:20251023T194653Z
UID:10001942-1782378000-1782405000@acanthus.com
SUMMARY:Build a Morris Chair – Hands-on Class
DESCRIPTION:In the Morris Chair class\, you’ll make a version of Gustav Stickley’s most significant contribution to the Mission Furniture style. \n\nMorris Chair\nThe five-day Morris Chair class begins with full-scale shop drawings. You’ll dive immediately into the joinery.
URL:https://acanthus.com/event/build-a-morris-chair-hands-on-class/2026-06-25/
LOCATION:Acanthus Workshop\, 62 Indian Trail Rd.\, Jim Thorpe\, PA\, 18229\, United States
CATEGORIES:Hands-on Class
ATTACH;FMTTYPE=image/jpeg:https://acanthus.com/wp-content/uploads/2025/09/Morris-e1758733432754.jpg
ORGANIZER;CN="Acanthus Workshop":MAILTO:classes@acanthus.com
GEO:40.211701;-75.621274
X-APPLE-STRUCTURED-LOCATION;VALUE=URI;X-ADDRESS=Acanthus Workshop 62 Indian Trail Rd. Jim Thorpe PA 18229 United States;X-APPLE-RADIUS=500;X-TITLE=62 Indian Trail Rd.:geo:-75.621274,40.211701
END:VEVENT
BEGIN:VEVENT
DTSTART;TZID=America/New_York:20260626T090000
DTEND;TZID=America/New_York:20260626T163000
DTSTAMP:20260421T071906
CREATED:20251023T194653Z
LAST-MODIFIED:20251023T194653Z
UID:10001943-1782464400-1782491400@acanthus.com
SUMMARY:Build a Morris Chair – Hands-on Class
DESCRIPTION:In the Morris Chair class\, you’ll make a version of Gustav Stickley’s most significant contribution to the Mission Furniture style. \n\nMorris Chair\nThe five-day Morris Chair class begins with full-scale shop drawings. You’ll dive immediately into the joinery.
URL:https://acanthus.com/event/build-a-morris-chair-hands-on-class/2026-06-26/
LOCATION:Acanthus Workshop\, 62 Indian Trail Rd.\, Jim Thorpe\, PA\, 18229\, United States
CATEGORIES:Hands-on Class
ATTACH;FMTTYPE=image/jpeg:https://acanthus.com/wp-content/uploads/2025/09/Morris-e1758733432754.jpg
ORGANIZER;CN="Acanthus Workshop":MAILTO:classes@acanthus.com
GEO:40.211701;-75.621274
X-APPLE-STRUCTURED-LOCATION;VALUE=URI;X-ADDRESS=Acanthus Workshop 62 Indian Trail Rd. Jim Thorpe PA 18229 United States;X-APPLE-RADIUS=500;X-TITLE=62 Indian Trail Rd.:geo:-75.621274,40.211701
END:VEVENT
END:VCALENDAR