BEGIN:VCALENDAR
VERSION:2.0
PRODID:-//Chuck Bender - Woodworking - ECPv6.15.18//NONSGML v1.0//EN
CALSCALE:GREGORIAN
METHOD:PUBLISH
X-WR-CALNAME:Chuck Bender - Woodworking
X-ORIGINAL-URL:https://acanthus.com
X-WR-CALDESC:Events for Chuck Bender - Woodworking
REFRESH-INTERVAL;VALUE=DURATION:PT1H
X-Robots-Tag:noindex
X-PUBLISHED-TTL:PT1H
BEGIN:VTIMEZONE
TZID:America/New_York
BEGIN:DAYLIGHT
TZOFFSETFROM:-0500
TZOFFSETTO:-0400
TZNAME:EDT
DTSTART:20120311T070000
END:DAYLIGHT
BEGIN:STANDARD
TZOFFSETFROM:-0400
TZOFFSETTO:-0500
TZNAME:EST
DTSTART:20121104T060000
END:STANDARD
BEGIN:DAYLIGHT
TZOFFSETFROM:-0500
TZOFFSETTO:-0400
TZNAME:EDT
DTSTART:20130310T070000
END:DAYLIGHT
BEGIN:STANDARD
TZOFFSETFROM:-0400
TZOFFSETTO:-0500
TZNAME:EST
DTSTART:20131103T060000
END:STANDARD
BEGIN:DAYLIGHT
TZOFFSETFROM:-0500
TZOFFSETTO:-0400
TZNAME:EDT
DTSTART:20140309T070000
END:DAYLIGHT
BEGIN:STANDARD
TZOFFSETFROM:-0400
TZOFFSETTO:-0500
TZNAME:EST
DTSTART:20141102T060000
END:STANDARD
END:VTIMEZONE
BEGIN:VEVENT
DTSTART;TZID=America/New_York:20130715T090000
DTEND;TZID=America/New_York:20130715T163000
DTSTAMP:20260419T223053
CREATED:20121207T210611Z
LAST-MODIFIED:20130511T114127Z
UID:10000355-1373878800-1373905800@acanthus.com
SUMMARY:Newport Blockfront Chest - Week 2
DESCRIPTION:  \nClick here for more information.
URL:https://acanthus.com/event/newport-blockfront-chest-week-2/2013-07-15/
LOCATION:Acanthus Workshop\, 62 Indian Trail Rd.\, Jim Thorpe\, PA\, 18229\, United States
CATEGORIES:Master level class
ORGANIZER;CN="Acanthus Workshop":MAILTO:classes@acanthus.com
GEO:40.211701;-75.621274
X-APPLE-STRUCTURED-LOCATION;VALUE=URI;X-ADDRESS=Acanthus Workshop 62 Indian Trail Rd. Jim Thorpe PA 18229 United States;X-APPLE-RADIUS=500;X-TITLE=62 Indian Trail Rd.:geo:-75.621274,40.211701
END:VEVENT
BEGIN:VEVENT
DTSTART;TZID=America/New_York:20130729T090000
DTEND;TZID=America/New_York:20130729T163000
DTSTAMP:20260419T223053
CREATED:20121207T210745Z
LAST-MODIFIED:20121207T210746Z
UID:10000031-1375088400-1375115400@acanthus.com
SUMMARY:Pennsylvania Spice Box
DESCRIPTION:  \nClick here for more information.
URL:https://acanthus.com/event/pennsylvania-spice-box/2013-07-29/
LOCATION:Acanthus Workshop\, 62 Indian Trail Rd.\, Jim Thorpe\, PA\, 18229\, United States
CATEGORIES:Journeyman level class
ORGANIZER;CN="Acanthus Workshop":MAILTO:classes@acanthus.com
GEO:40.211701;-75.621274
X-APPLE-STRUCTURED-LOCATION;VALUE=URI;X-ADDRESS=Acanthus Workshop 62 Indian Trail Rd. Jim Thorpe PA 18229 United States;X-APPLE-RADIUS=500;X-TITLE=62 Indian Trail Rd.:geo:-75.621274,40.211701
END:VEVENT
BEGIN:VEVENT
DTSTART;TZID=America/New_York:20130824T090000
DTEND;TZID=America/New_York:20130824T163000
DTSTAMP:20260419T223053
CREATED:20121207T210611Z
LAST-MODIFIED:20121207T210611Z
UID:10000356-1377334800-1377361800@acanthus.com
SUMMARY:Turning Fundamentals
DESCRIPTION:  \nClick here for more information.
URL:https://acanthus.com/event/turning-fundamentals/2013-08-24/
LOCATION:Acanthus Workshop\, 62 Indian Trail Rd.\, Jim Thorpe\, PA\, 18229\, United States
CATEGORIES:Apprentice level class,Journeyman level class,Master level class
ORGANIZER;CN="Acanthus Workshop":MAILTO:classes@acanthus.com
GEO:40.211701;-75.621274
X-APPLE-STRUCTURED-LOCATION;VALUE=URI;X-ADDRESS=Acanthus Workshop 62 Indian Trail Rd. Jim Thorpe PA 18229 United States;X-APPLE-RADIUS=500;X-TITLE=62 Indian Trail Rd.:geo:-75.621274,40.211701
END:VEVENT
BEGIN:VEVENT
DTSTART;TZID=America/New_York:20130914T090000
DTEND;TZID=America/New_York:20130914T163000
DTSTAMP:20260419T223053
CREATED:20130228T095309Z
LAST-MODIFIED:20130228T095309Z
UID:10000047-1379149200-1379176200@acanthus.com
SUMMARY:The Inlay Razor with Geoffrey Noden
DESCRIPTION:For more information on the Inlay Razor class\, click here.
URL:https://acanthus.com/event/the-inlay-razor-with-geoffrey-noden/2013-09-14/
LOCATION:Acanthus Workshop\, 62 Indian Trail Rd.\, Jim Thorpe\, PA\, 18229\, United States
CATEGORIES:Apprentice level class,Journeyman level class,Master level class
ORGANIZER;CN="Acanthus Workshop":MAILTO:classes@acanthus.com
GEO:40.211701;-75.621274
X-APPLE-STRUCTURED-LOCATION;VALUE=URI;X-ADDRESS=Acanthus Workshop 62 Indian Trail Rd. Jim Thorpe PA 18229 United States;X-APPLE-RADIUS=500;X-TITLE=62 Indian Trail Rd.:geo:-75.621274,40.211701
END:VEVENT
BEGIN:VEVENT
DTSTART;TZID=America/New_York:20130921T090000
DTEND;TZID=America/New_York:20130921T163000
DTSTAMP:20260419T223053
CREATED:20121207T210611Z
LAST-MODIFIED:20121207T210611Z
UID:10000354-1379754000-1379781000@acanthus.com
SUMMARY:Advanced Carving
DESCRIPTION:  \nClick here for more information.
URL:https://acanthus.com/event/advanced-carving/2013-09-21/
LOCATION:Acanthus Workshop\, 62 Indian Trail Rd.\, Jim Thorpe\, PA\, 18229\, United States
CATEGORIES:Apprentice level class,Journeyman level class,Master level class
ORGANIZER;CN="Acanthus Workshop":MAILTO:classes@acanthus.com
GEO:40.211701;-75.621274
X-APPLE-STRUCTURED-LOCATION;VALUE=URI;X-ADDRESS=Acanthus Workshop 62 Indian Trail Rd. Jim Thorpe PA 18229 United States;X-APPLE-RADIUS=500;X-TITLE=62 Indian Trail Rd.:geo:-75.621274,40.211701
END:VEVENT
BEGIN:VEVENT
DTSTART;TZID=America/New_York:20130923T090000
DTEND;TZID=America/New_York:20130923T163000
DTSTAMP:20260419T223053
CREATED:20121207T210611Z
LAST-MODIFIED:20121207T210611Z
UID:10000353-1379926800-1379953800@acanthus.com
SUMMARY:Furniture Maker's Tool Cabinet
DESCRIPTION:  \nClick here for more information.
URL:https://acanthus.com/event/furniture-makers-tool-cabinet/2013-09-23/
LOCATION:Acanthus Workshop\, 62 Indian Trail Rd.\, Jim Thorpe\, PA\, 18229\, United States
CATEGORIES:Journeyman level class
ORGANIZER;CN="Acanthus Workshop":MAILTO:classes@acanthus.com
GEO:40.211701;-75.621274
X-APPLE-STRUCTURED-LOCATION;VALUE=URI;X-ADDRESS=Acanthus Workshop 62 Indian Trail Rd. Jim Thorpe PA 18229 United States;X-APPLE-RADIUS=500;X-TITLE=62 Indian Trail Rd.:geo:-75.621274,40.211701
END:VEVENT
BEGIN:VEVENT
DTSTART;TZID=America/New_York:20131004T100000
DTEND;TZID=America/New_York:20131004T180000
DTSTAMP:20260419T223053
CREATED:20121207T205957Z
LAST-MODIFIED:20121207T205957Z
UID:10000337-1380880800-1380909600@acanthus.com
SUMMARY:Hearne Hardwoods Open House and Lie-Nielsen Hand Tool Event
DESCRIPTION:
URL:https://acanthus.com/event/hearne-hardwoods-open-house-and-lie-nielsen-hand-tool-event/2013-10-04/
LOCATION:Hearne Hardwoods\, 200 Whiteside Drive\, Oxford\, PA\, 19363\, United States
CATEGORIES:Show/event
GEO:39.8162495;-75.9626881
X-APPLE-STRUCTURED-LOCATION;VALUE=URI;X-ADDRESS=Hearne Hardwoods 200 Whiteside Drive Oxford PA 19363 United States;X-APPLE-RADIUS=500;X-TITLE=200 Whiteside Drive:geo:-75.9626881,39.8162495
END:VEVENT
BEGIN:VEVENT
DTSTART;TZID=America/New_York:20131012T090000
DTEND;TZID=America/New_York:20131012T163000
DTSTAMP:20260419T223053
CREATED:20130207T145624Z
LAST-MODIFIED:20130207T150554Z
UID:10000044-1381568400-1381595400@acanthus.com
SUMMARY:Molding Planes with Matt Bickford
DESCRIPTION:For more information on Matt’s class click here.
URL:https://acanthus.com/event/molding-planes-with-matt-bickford-6/2013-10-12/
LOCATION:Acanthus Workshop\, 62 Indian Trail Rd.\, Jim Thorpe\, PA\, 18229\, United States
CATEGORIES:Apprentice level class,Journeyman level class,Master level class
ORGANIZER;CN="Acanthus Workshop":MAILTO:classes@acanthus.com
GEO:40.211701;-75.621274
X-APPLE-STRUCTURED-LOCATION;VALUE=URI;X-ADDRESS=Acanthus Workshop 62 Indian Trail Rd. Jim Thorpe PA 18229 United States;X-APPLE-RADIUS=500;X-TITLE=62 Indian Trail Rd.:geo:-75.621274,40.211701
END:VEVENT
BEGIN:VEVENT
DTSTART;TZID=America/New_York:20131014T090000
DTEND;TZID=America/New_York:20131014T163000
DTSTAMP:20260419T223053
CREATED:20130207T145820Z
LAST-MODIFIED:20130207T145917Z
UID:10000045-1381741200-1381768200@acanthus.com
SUMMARY:Optional day for Molding Planes with Matt Bickford
DESCRIPTION:For more information on Matt’s class click here.
URL:https://acanthus.com/event/optional-day-for-molding-planes-with-matt-bickford/
LOCATION:Acanthus Workshop\, 62 Indian Trail Rd.\, Jim Thorpe\, PA\, 18229\, United States
CATEGORIES:Apprentice level class,Journeyman level class,Master level class
ORGANIZER;CN="Acanthus Workshop":MAILTO:classes@acanthus.com
GEO:40.211701;-75.621274
X-APPLE-STRUCTURED-LOCATION;VALUE=URI;X-ADDRESS=Acanthus Workshop 62 Indian Trail Rd. Jim Thorpe PA 18229 United States;X-APPLE-RADIUS=500;X-TITLE=62 Indian Trail Rd.:geo:-75.621274,40.211701
END:VEVENT
BEGIN:VEVENT
DTSTART;TZID=America/New_York:20131026T090000
DTEND;TZID=America/New_York:20131026T163000
DTSTAMP:20260419T223053
CREATED:20121207T205957Z
LAST-MODIFIED:20121207T205957Z
UID:10000338-1382778000-1382805000@acanthus.com
SUMMARY:Veneer and Inlay
DESCRIPTION:  \nClick here for more information.
URL:https://acanthus.com/event/veneer-and-inlay/2013-10-26/
LOCATION:Acanthus Workshop\, 62 Indian Trail Rd.\, Jim Thorpe\, PA\, 18229\, United States
CATEGORIES:Apprentice level class,Journeyman level class,Master level class
ORGANIZER;CN="Acanthus Workshop":MAILTO:classes@acanthus.com
GEO:40.211701;-75.621274
X-APPLE-STRUCTURED-LOCATION;VALUE=URI;X-ADDRESS=Acanthus Workshop 62 Indian Trail Rd. Jim Thorpe PA 18229 United States;X-APPLE-RADIUS=500;X-TITLE=62 Indian Trail Rd.:geo:-75.621274,40.211701
END:VEVENT
BEGIN:VEVENT
DTSTART;TZID=America/New_York:20131102T090000
DTEND;TZID=America/New_York:20131102T163000
DTSTAMP:20260419T223053
CREATED:20121207T205957Z
LAST-MODIFIED:20121207T205957Z
UID:10000359-1383382800-1383409800@acanthus.com
SUMMARY:Advanced Dovetailing
DESCRIPTION:  \nClick here for more information.
URL:https://acanthus.com/event/advanced-dovetailing/2013-11-02/
LOCATION:Acanthus Workshop\, 62 Indian Trail Rd.\, Jim Thorpe\, PA\, 18229\, United States
CATEGORIES:Apprentice level class,Journeyman level class,Master level class
ORGANIZER;CN="Acanthus Workshop":MAILTO:classes@acanthus.com
GEO:40.211701;-75.621274
X-APPLE-STRUCTURED-LOCATION;VALUE=URI;X-ADDRESS=Acanthus Workshop 62 Indian Trail Rd. Jim Thorpe PA 18229 United States;X-APPLE-RADIUS=500;X-TITLE=62 Indian Trail Rd.:geo:-75.621274,40.211701
END:VEVENT
BEGIN:VEVENT
DTSTART;TZID=America/New_York:20131104T090000
DTEND;TZID=America/New_York:20131104T163000
DTSTAMP:20260419T223053
CREATED:20121207T205957Z
LAST-MODIFIED:20121207T205957Z
UID:10000357-1383555600-1383582600@acanthus.com
SUMMARY:Pennsylvania Painted Wall Cupboard
DESCRIPTION:  \n  \nClick here for more information.
URL:https://acanthus.com/event/pennsylvania-painted-wall-cupboard/2013-11-04/
LOCATION:Acanthus Workshop\, 62 Indian Trail Rd.\, Jim Thorpe\, PA\, 18229\, United States
CATEGORIES:Journeyman level class
ORGANIZER;CN="Acanthus Workshop":MAILTO:classes@acanthus.com
GEO:40.211701;-75.621274
X-APPLE-STRUCTURED-LOCATION;VALUE=URI;X-ADDRESS=Acanthus Workshop 62 Indian Trail Rd. Jim Thorpe PA 18229 United States;X-APPLE-RADIUS=500;X-TITLE=62 Indian Trail Rd.:geo:-75.621274,40.211701
END:VEVENT
BEGIN:VEVENT
DTSTART;TZID=America/New_York:20131111T090000
DTEND;TZID=America/New_York:20131111T163000
DTSTAMP:20260419T223053
CREATED:20121207T205957Z
LAST-MODIFIED:20121207T205957Z
UID:10000358-1384160400-1384187400@acanthus.com
SUMMARY:Lolling Chair
DESCRIPTION:  \nClick here for more information. \n  \n  \n  \n  \n 
URL:https://acanthus.com/event/lolling-chair/2013-11-11/
LOCATION:Acanthus Workshop\, 62 Indian Trail Rd.\, Jim Thorpe\, PA\, 18229\, United States
CATEGORIES:Journeyman level class
ORGANIZER;CN="Acanthus Workshop":MAILTO:classes@acanthus.com
GEO:40.211701;-75.621274
X-APPLE-STRUCTURED-LOCATION;VALUE=URI;X-ADDRESS=Acanthus Workshop 62 Indian Trail Rd. Jim Thorpe PA 18229 United States;X-APPLE-RADIUS=500;X-TITLE=62 Indian Trail Rd.:geo:-75.621274,40.211701
END:VEVENT
BEGIN:VEVENT
DTSTART;TZID=America/New_York:20131118T090000
DTEND;TZID=America/New_York:20131118T163000
DTSTAMP:20260419T223053
CREATED:20130207T150333Z
LAST-MODIFIED:20130207T150333Z
UID:10000046-1384765200-1384792200@acanthus.com
SUMMARY:Making Hollows and Rounds with Matt Bickford
DESCRIPTION:For more information on Matt’s class click here.
URL:https://acanthus.com/event/making-hollows-and-rounds-with-matt-bickford/2013-11-18/
LOCATION:Acanthus Workshop\, 62 Indian Trail Rd.\, Jim Thorpe\, PA\, 18229\, United States
CATEGORIES:Apprentice level class,Journeyman level class,Master level class
ORGANIZER;CN="Acanthus Workshop":MAILTO:classes@acanthus.com
GEO:40.211701;-75.621274
X-APPLE-STRUCTURED-LOCATION;VALUE=URI;X-ADDRESS=Acanthus Workshop 62 Indian Trail Rd. Jim Thorpe PA 18229 United States;X-APPLE-RADIUS=500;X-TITLE=62 Indian Trail Rd.:geo:-75.621274,40.211701
END:VEVENT
BEGIN:VEVENT
DTSTART;TZID=America/New_York:20131209T090000
DTEND;TZID=America/New_York:20131209T163000
DTSTAMP:20260419T223053
CREATED:20121207T205956Z
LAST-MODIFIED:20121207T205957Z
UID:10000320-1386579600-1386606600@acanthus.com
SUMMARY:Esherick Style Music Stand
DESCRIPTION:  \nClick here for more information.
URL:https://acanthus.com/event/esherick-style-music-stand/2013-12-09/
LOCATION:Acanthus Workshop\, 62 Indian Trail Rd.\, Jim Thorpe\, PA\, 18229\, United States
CATEGORIES:Journeyman level class
ORGANIZER;CN="Acanthus Workshop":MAILTO:classes@acanthus.com
GEO:40.211701;-75.621274
X-APPLE-STRUCTURED-LOCATION;VALUE=URI;X-ADDRESS=Acanthus Workshop 62 Indian Trail Rd. Jim Thorpe PA 18229 United States;X-APPLE-RADIUS=500;X-TITLE=62 Indian Trail Rd.:geo:-75.621274,40.211701
END:VEVENT
END:VCALENDAR