BEGIN:VCALENDAR
VERSION:2.0
PRODID:-//Chuck Bender - Woodworking - ECPv6.15.18//NONSGML v1.0//EN
CALSCALE:GREGORIAN
METHOD:PUBLISH
X-ORIGINAL-URL:https://acanthus.com
X-WR-CALDESC:Events for Chuck Bender - Woodworking
REFRESH-INTERVAL;VALUE=DURATION:PT1H
X-Robots-Tag:noindex
X-PUBLISHED-TTL:PT1H
BEGIN:VTIMEZONE
TZID:America/New_York
BEGIN:DAYLIGHT
TZOFFSETFROM:-0500
TZOFFSETTO:-0400
TZNAME:EDT
DTSTART:20110313T070000
END:DAYLIGHT
BEGIN:STANDARD
TZOFFSETFROM:-0400
TZOFFSETTO:-0500
TZNAME:EST
DTSTART:20111106T060000
END:STANDARD
BEGIN:DAYLIGHT
TZOFFSETFROM:-0500
TZOFFSETTO:-0400
TZNAME:EDT
DTSTART:20120311T070000
END:DAYLIGHT
BEGIN:STANDARD
TZOFFSETFROM:-0400
TZOFFSETTO:-0500
TZNAME:EST
DTSTART:20121104T060000
END:STANDARD
BEGIN:DAYLIGHT
TZOFFSETFROM:-0500
TZOFFSETTO:-0400
TZNAME:EDT
DTSTART:20130310T070000
END:DAYLIGHT
BEGIN:STANDARD
TZOFFSETFROM:-0400
TZOFFSETTO:-0500
TZNAME:EST
DTSTART:20131103T060000
END:STANDARD
BEGIN:DAYLIGHT
TZOFFSETFROM:-0500
TZOFFSETTO:-0400
TZNAME:EDT
DTSTART:20140309T070000
END:DAYLIGHT
BEGIN:STANDARD
TZOFFSETFROM:-0400
TZOFFSETTO:-0500
TZNAME:EST
DTSTART:20141102T060000
END:STANDARD
END:VTIMEZONE
BEGIN:VEVENT
DTSTART;TZID=America/New_York:20130104T120000
DTEND;TZID=America/New_York:20130104T180000
DTSTAMP:20260421T235113
CREATED:20121207T210905Z
LAST-MODIFIED:20121207T210905Z
UID:10000365-1357300800-1357322400@acanthus.com
SUMMARY:The Woodworking Shows - Baltimore
DESCRIPTION:
URL:https://acanthus.com/event/the-woodworking-shows-baltimore/
CATEGORIES:Show/event
END:VEVENT
BEGIN:VEVENT
DTSTART;TZID=America/New_York:20121124T110000
DTEND;TZID=America/New_York:20121124T170000
DTSTAMP:20260421T235113
CREATED:20121109T123147Z
LAST-MODIFIED:20121112T104215Z
UID:10000323-1353754800-1353776400@acanthus.com
SUMMARY:Open House
DESCRIPTION:Visit the Acanthus Workshop and purchase pieces of furniture from Charles Bender’s personal collection.\nFor additional information on pieces of furniture for sale at the open house\, please click here.\n\n. \n. \n. \n. \n. \n. \n. \n. \n. \n. \n. \n. \n 
URL:https://acanthus.com/event/open-house/
LOCATION:Acanthus Workshop\, 62 Indian Trail Rd.\, Jim Thorpe\, PA\, 18229\, United States
CATEGORIES:Show/event
ORGANIZER;CN="Acanthus Workshop":MAILTO:classes@acanthus.com
GEO:40.211701;-75.621274
X-APPLE-STRUCTURED-LOCATION;VALUE=URI;X-ADDRESS=Acanthus Workshop 62 Indian Trail Rd. Jim Thorpe PA 18229 United States;X-APPLE-RADIUS=500;X-TITLE=62 Indian Trail Rd.:geo:-75.621274,40.211701
END:VEVENT
BEGIN:VEVENT
DTSTART;TZID=America/New_York:20121123T110000
DTEND;TZID=America/New_York:20121123T170000
DTSTAMP:20260421T235113
CREATED:20121109T123155Z
LAST-MODIFIED:20121112T104425Z
UID:10000322-1353668400-1353690000@acanthus.com
SUMMARY:Open House
DESCRIPTION:Visit the Acanthus Workshop and purchase pieces of furniture from Charles Bender’s personal collection.\nFor additional information on pieces of furniture for sale at the open house\, please click here.\n. \n. \n. \n. \n. \n. \n. \n. \n. \n. \n. \n. \n 
URL:https://acanthus.com/event/open-house-2/
LOCATION:Acanthus Workshop\, 62 Indian Trail Rd.\, Jim Thorpe\, PA\, 18229\, United States
CATEGORIES:Show/event
ORGANIZER;CN="Acanthus Workshop":MAILTO:classes@acanthus.com
GEO:40.211701;-75.621274
X-APPLE-STRUCTURED-LOCATION;VALUE=URI;X-ADDRESS=Acanthus Workshop 62 Indian Trail Rd. Jim Thorpe PA 18229 United States;X-APPLE-RADIUS=500;X-TITLE=62 Indian Trail Rd.:geo:-75.621274,40.211701
END:VEVENT
BEGIN:VEVENT
DTSTART;TZID=America/New_York:20121102T090000
DTEND;TZID=America/New_York:20121104T120000
DTSTAMP:20260421T235113
CREATED:20120901T135020Z
LAST-MODIFIED:20120901T135020Z
UID:10000324-1351846800-1352030400@acanthus.com
SUMMARY:Woodworking in America Mid-West
DESCRIPTION:For more information click here.
URL:https://acanthus.com/event/woodworking-in-america-mid-west/
LOCATION:Northern Kentucky Convention Center\, One West Rivercenter Blvd\, Covington\, KY\, 41011\, United States
CATEGORIES:Presentation,Show/event
GEO:39.089044;-84.512389
X-APPLE-STRUCTURED-LOCATION;VALUE=URI;X-ADDRESS=Northern Kentucky Convention Center One West Rivercenter Blvd Covington KY 41011 United States;X-APPLE-RADIUS=500;X-TITLE=One West Rivercenter Blvd:geo:-84.512389,39.089044
END:VEVENT
BEGIN:VEVENT
DTSTART;TZID=America/New_York:20121005T100000
DTEND;TZID=America/New_York:20121006T170000
DTSTAMP:20260421T235113
CREATED:20120901T134715Z
LAST-MODIFIED:20120901T134715Z
UID:10000325-1349431200-1349542800@acanthus.com
SUMMARY:Lie-Nielsen Hand Tool Event - Oxford\, PA
DESCRIPTION:For more information\, click here.
URL:https://acanthus.com/event/lie-nielsen-hand-tool-event-oxford-pa/
LOCATION:Hearne Hardwoods\, 200 Whiteside Drive\, Oxford\, PA\, 19363\, United States
CATEGORIES:Presentation,Show/event
GEO:39.8162495;-75.9626881
X-APPLE-STRUCTURED-LOCATION;VALUE=URI;X-ADDRESS=Hearne Hardwoods 200 Whiteside Drive Oxford PA 19363 United States;X-APPLE-RADIUS=500;X-TITLE=200 Whiteside Drive:geo:-75.9626881,39.8162495
END:VEVENT
END:VCALENDAR