BEGIN:VCALENDAR
VERSION:2.0
PRODID:-//Chuck Bender - Woodworking - ECPv6.15.18//NONSGML v1.0//EN
CALSCALE:GREGORIAN
METHOD:PUBLISH
X-WR-CALNAME:Chuck Bender - Woodworking
X-ORIGINAL-URL:https://acanthus.com
X-WR-CALDESC:Events for Chuck Bender - Woodworking
REFRESH-INTERVAL;VALUE=DURATION:PT1H
X-Robots-Tag:noindex
X-PUBLISHED-TTL:PT1H
BEGIN:VTIMEZONE
TZID:America/New_York
BEGIN:DAYLIGHT
TZOFFSETFROM:-0500
TZOFFSETTO:-0400
TZNAME:EDT
DTSTART:20240310T070000
END:DAYLIGHT
BEGIN:STANDARD
TZOFFSETFROM:-0400
TZOFFSETTO:-0500
TZNAME:EST
DTSTART:20241103T060000
END:STANDARD
BEGIN:DAYLIGHT
TZOFFSETFROM:-0500
TZOFFSETTO:-0400
TZNAME:EDT
DTSTART:20250309T070000
END:DAYLIGHT
BEGIN:STANDARD
TZOFFSETFROM:-0400
TZOFFSETTO:-0500
TZNAME:EST
DTSTART:20251102T060000
END:STANDARD
BEGIN:DAYLIGHT
TZOFFSETFROM:-0500
TZOFFSETTO:-0400
TZNAME:EDT
DTSTART:20260308T070000
END:DAYLIGHT
BEGIN:STANDARD
TZOFFSETFROM:-0400
TZOFFSETTO:-0500
TZNAME:EST
DTSTART:20261101T060000
END:STANDARD
END:VTIMEZONE
BEGIN:VEVENT
DTSTART;TZID=America/New_York:20250405T090000
DTEND;TZID=America/New_York:20250405T170000
DTSTAMP:20260421T231946
CREATED:20250206T130105Z
LAST-MODIFIED:20250206T130105Z
UID:10001523-1743843600-1743872400@acanthus.com
SUMMARY:Build an Eli Terry Pillar and Scroll Wall Clock
DESCRIPTION:  \nEli Terry\, Native of East Windsor\, Ct who apprenticed under Windsor clockmaker Daniel Burnap\, pioneered using interchangeable wooden parts to produce the first ever affordable clocks in the early US. His “Pillar & Scroll” clocks went a step farther and featured standardized decorative pillars\, a scrolled top\, painted dial and a reverse painted (églomisé) glass decorative scene. Join Chuck Bender as we build a replica of these iconic shelf clocks. Everyone’s basic clock will be the same but the decorative elements- bandings\, inlay\, scroll work\, etc- is only limited by your imagination! As an added treat we will visit the Yale Furniture study in West Haven\, CT to check out their collection of originals. Due to the variety of options in accessing the works \, the clock dial and the reverse painted glass panel\, the materials fee will not include these items. We will assist everyone in procuring the necessary hardware but there is such a range of options and expense that these decisions are better left to each participant. Class will meet over two 3- day weekend for a total of six days of class time. The case will be made in mahogany unless you want to utilize a different species (please contact Bob Van Dyke bob@schoolofwoodworking.com. \nThis is a great opportunity to make an exceptional family heirloom. Chuck Bender is the recipient  of the prestigious Sapfm Cartouche award for 2022. Sign up today. Class is limited to eight participants. \n 
URL:https://acanthus.com/event/build-a-pillar-and-scroll-clock-2/2025-04-05/
LOCATION:Connecticut Valley School of Woodworking\, 249 Spencer St\, Manchester\, CT\, 06040\, United States
CATEGORIES:Hands-on Class
ATTACH;FMTTYPE=image/png:https://acanthus.com/wp-content/uploads/2025/02/CVSW_P_S_Clock.png
ORGANIZER;CN="Connecticut Valley School of Woodworking":MAILTO:bob@schoolofwoodworking.com
GEO:41.7669116;-72.5714684
X-APPLE-STRUCTURED-LOCATION;VALUE=URI;X-ADDRESS=Connecticut Valley School of Woodworking 249 Spencer St Manchester CT 06040 United States;X-APPLE-RADIUS=500;X-TITLE=249 Spencer St:geo:-72.5714684,41.7669116
END:VEVENT
BEGIN:VEVENT
DTSTART;TZID=America/New_York:20250406T090000
DTEND;TZID=America/New_York:20250406T170000
DTSTAMP:20260421T231946
CREATED:20250206T130105Z
LAST-MODIFIED:20250206T130105Z
UID:10001524-1743930000-1743958800@acanthus.com
SUMMARY:Build an Eli Terry Pillar and Scroll Wall Clock
DESCRIPTION:  \nEli Terry\, Native of East Windsor\, Ct who apprenticed under Windsor clockmaker Daniel Burnap\, pioneered using interchangeable wooden parts to produce the first ever affordable clocks in the early US. His “Pillar & Scroll” clocks went a step farther and featured standardized decorative pillars\, a scrolled top\, painted dial and a reverse painted (églomisé) glass decorative scene. Join Chuck Bender as we build a replica of these iconic shelf clocks. Everyone’s basic clock will be the same but the decorative elements- bandings\, inlay\, scroll work\, etc- is only limited by your imagination! As an added treat we will visit the Yale Furniture study in West Haven\, CT to check out their collection of originals. Due to the variety of options in accessing the works \, the clock dial and the reverse painted glass panel\, the materials fee will not include these items. We will assist everyone in procuring the necessary hardware but there is such a range of options and expense that these decisions are better left to each participant. Class will meet over two 3- day weekend for a total of six days of class time. The case will be made in mahogany unless you want to utilize a different species (please contact Bob Van Dyke bob@schoolofwoodworking.com. \nThis is a great opportunity to make an exceptional family heirloom. Chuck Bender is the recipient  of the prestigious Sapfm Cartouche award for 2022. Sign up today. Class is limited to eight participants. \n 
URL:https://acanthus.com/event/build-a-pillar-and-scroll-clock-2/2025-04-06/
LOCATION:Connecticut Valley School of Woodworking\, 249 Spencer St\, Manchester\, CT\, 06040\, United States
CATEGORIES:Hands-on Class
ATTACH;FMTTYPE=image/png:https://acanthus.com/wp-content/uploads/2025/02/CVSW_P_S_Clock.png
ORGANIZER;CN="Connecticut Valley School of Woodworking":MAILTO:bob@schoolofwoodworking.com
GEO:41.7669116;-72.5714684
X-APPLE-STRUCTURED-LOCATION;VALUE=URI;X-ADDRESS=Connecticut Valley School of Woodworking 249 Spencer St Manchester CT 06040 United States;X-APPLE-RADIUS=500;X-TITLE=249 Spencer St:geo:-72.5714684,41.7669116
END:VEVENT
END:VCALENDAR